BEGIN:VCALENDAR
VERSION:2.0
PRODID:-//wp-events-plugin.com//6.6.4.4//EN
TZID:Asia/Tokyo
X-WR-TIMEZONE:Asia/Tokyo
BEGIN:VEVENT
UID:52@musashino.ac
DTSTART;TZID=Asia/Tokyo:20251018T190000
DTEND;TZID=Asia/Tokyo:20251018T210000
DTSTAMP:20251107T070959Z
URL:https://musashino.ac/events/events037/
SUMMARY:【第37回（終了）】武蔵野政治塾「排外主義やデ
 マに抗する！ ー信じられる未来を八王子からー」
DESCRIPTION:日時：2025年10月18日（土)19:00-21:00（18:20開場）\n
 会場：いちょうホール 八王子市芸術文化会館　小ホー
 ル
ATTACH;FMTTYPE=image/jpeg:https://musashino.ac/cms/wp-content/uploads/b1a4
 5fc67043487280f11399fda0f036.png
CATEGORIES:イベント
LOCATION:いちょうホール 八王子市芸術文化会館　小ホー
 ル\, 本町24-1\, 八王子市\, 東京都\, 〒192-0066\, 日本
X-APPLE-STRUCTURED-LOCATION;VALUE=URI;X-ADDRESS=本町24-1\, 八王子市\,
  東京都\, 〒192-0066\, 日本;X-APPLE-RADIUS=100;X-TITLE=いちょう
 ホール 八王子市芸術文化会館　小ホール:geo:0,0
END:VEVENT
BEGIN:VTIMEZONE
TZID:Asia/Tokyo
X-LIC-LOCATION:Asia/Tokyo
BEGIN:STANDARD
DTSTART:20241018T190000
TZOFFSETFROM:+0900
TZOFFSETTO:+0900
TZNAME:JST
END:STANDARD
END:VTIMEZONE
END:VCALENDAR