BEGIN:VCALENDAR
VERSION:2.0
PRODID:-//wp-events-plugin.com//6.6.4.4//EN
TZID:Asia/Tokyo
X-WR-TIMEZONE:Asia/Tokyo
BEGIN:VEVENT
UID:55@musashino.ac
DTSTART;TZID=Asia/Tokyo:20260116T190000
DTEND;TZID=Asia/Tokyo:20260116T210000
DTSTAMP:20260117T112112Z
URL:https://musashino.ac/events/events39/
SUMMARY:【第39回（終了）】武蔵野政治塾「政治の病、放
 っておけない！～いのちを守る政治の実現とは～」
DESCRIPTION:日時：2026年1月16日（金)19:00-21:300（18:30開場）\n
 会場：武蔵野公会堂ホール
ATTACH;FMTTYPE=image/jpeg:https://musashino.ac/cms/wp-content/uploads/samu
 ne39.jpg
CATEGORIES:イベント
LOCATION:武蔵野公会堂ホール\, 1丁目6-22\, 武蔵野市吉祥寺
 南町\, 東京都\, 〒180-0003\, 日本
X-APPLE-STRUCTURED-LOCATION;VALUE=URI;X-ADDRESS=1丁目6-22\, 武蔵野市
 吉祥寺南町\, 東京都\, 〒180-0003\, 日本;X-APPLE-RADIUS=100;X-TI
 TLE=武蔵野公会堂ホール:geo:0,0
END:VEVENT
BEGIN:VTIMEZONE
TZID:Asia/Tokyo
X-LIC-LOCATION:Asia/Tokyo
BEGIN:STANDARD
DTSTART:20250116T190000
TZOFFSETFROM:+0900
TZOFFSETTO:+0900
TZNAME:JST
END:STANDARD
END:VTIMEZONE
END:VCALENDAR